BEGIN:VCALENDAR
VERSION:2.0
PRODID:-//C.V. De Bosduvelkes - ECPv6.15.13//NONSGML v1.0//EN
CALSCALE:GREGORIAN
METHOD:PUBLISH
X-ORIGINAL-URL:https://bosduvelkes.nl
X-WR-CALDESC:Evenementen voor C.V. De Bosduvelkes
REFRESH-INTERVAL;VALUE=DURATION:PT1H
X-Robots-Tag:noindex
X-PUBLISHED-TTL:PT1H
BEGIN:VTIMEZONE
TZID:UTC
BEGIN:STANDARD
TZOFFSETFROM:+0000
TZOFFSETTO:+0000
TZNAME:UTC
DTSTART:20170101T000000
END:STANDARD
END:VTIMEZONE
BEGIN:VEVENT
DTSTART;TZID=UTC:20180110T180000
DTEND;TZID=UTC:20180110T180000
DTSTAMP:20260421T171028
CREATED:20171221T194347Z
LAST-MODIFIED:20171225T115133Z
UID:4218-1515607200-1515607200@bosduvelkes.nl
SUMMARY:Verkoop kaarten Lutter Gala
DESCRIPTION:Op woensdag 10 januari 2018 is de vrije verkoop van de toegangskaarten voor de Lutter Gala. De galacommissie van De Bosdûvelkes legt de laatste hand aan het programma waarin nieuwe gezichten en optredens. De gala’s van De Bosdûvelkes worden tot ver in de omtrek geroemd om de humor\, hoog cabaret gehalte en alles van eigen bodem. De galavoorstellingen van De Bosdûvelkes vinden plaats: zaterdag 20 januari\, zondagmiddag 21 januari matinee aanvang 14:30 uur\, vrijdag 26 januari en het slotgala op zaterdag 27 januari met uitreiking van de Orde van Verdienste. Het programma start op de avonden om 19.30 uur. \nBegunstigers hebben een streepje voor. Bent u nog geen begunstiger en wilt u dit toch worden\, neem dan contact op met het secretariaat\, via Leonie Pongers: per mail secretariaat@bosduvelkes.nl \nDe vrije verkoop van de resterende kaarten (à 15\,00 euro) vindt plaats op woensdag 10 januari 2017 om 20.00 uur in café/zalencentrum De Vereeniging\, zaal open vanaf 18.00 uur. Bij binnenkomst krijgt u een volgnummer en dient u aan te geven hoeveel kaarten u wenst te kopen. Per persoon kunnen er maximaal 8 kaarten worden gekocht.
URL:https://bosduvelkes.nl/evenement/verkoop-kaarten-lutter-gala/
LOCATION:De Vereeniging\, Dorpstraat 7\, De Lutte\, 7587 AH\, Nederland
CATEGORIES:Kaartverkoop
ATTACH;FMTTYPE=image/jpeg:https://bosduvelkes.nl/wp-content/uploads/2017/10/Achtergrond-BD-2.jpg
ORGANIZER;CN="C.V. De Bosduvelkes":MAILTO:info@bosduvelkes.nl
END:VEVENT
END:VCALENDAR