BEGIN:VCALENDAR
VERSION:2.0
PRODID:-//C.V. De Bosduvelkes - ECPv6.15.13//NONSGML v1.0//EN
CALSCALE:GREGORIAN
METHOD:PUBLISH
X-ORIGINAL-URL:https://bosduvelkes.nl
X-WR-CALDESC:Evenementen voor C.V. De Bosduvelkes
REFRESH-INTERVAL;VALUE=DURATION:PT1H
X-Robots-Tag:noindex
X-PUBLISHED-TTL:PT1H
BEGIN:VTIMEZONE
TZID:Europe/Paris
BEGIN:DAYLIGHT
TZOFFSETFROM:+0100
TZOFFSETTO:+0200
TZNAME:CEST
DTSTART:20210328T010000
END:DAYLIGHT
BEGIN:STANDARD
TZOFFSETFROM:+0200
TZOFFSETTO:+0100
TZNAME:CET
DTSTART:20211031T010000
END:STANDARD
BEGIN:DAYLIGHT
TZOFFSETFROM:+0100
TZOFFSETTO:+0200
TZNAME:CEST
DTSTART:20220327T010000
END:DAYLIGHT
BEGIN:STANDARD
TZOFFSETFROM:+0200
TZOFFSETTO:+0100
TZNAME:CET
DTSTART:20221030T010000
END:STANDARD
BEGIN:DAYLIGHT
TZOFFSETFROM:+0100
TZOFFSETTO:+0200
TZNAME:CEST
DTSTART:20230326T010000
END:DAYLIGHT
BEGIN:STANDARD
TZOFFSETFROM:+0200
TZOFFSETTO:+0100
TZNAME:CET
DTSTART:20231029T010000
END:STANDARD
END:VTIMEZONE
BEGIN:VTIMEZONE
TZID:UTC
BEGIN:STANDARD
TZOFFSETFROM:+0000
TZOFFSETTO:+0000
TZNAME:UTC
DTSTART:20160101T000000
END:STANDARD
END:VTIMEZONE
BEGIN:VTIMEZONE
TZID:Europe/Amsterdam
BEGIN:DAYLIGHT
TZOFFSETFROM:+0100
TZOFFSETTO:+0200
TZNAME:CEST
DTSTART:20160327T010000
END:DAYLIGHT
BEGIN:STANDARD
TZOFFSETFROM:+0200
TZOFFSETTO:+0100
TZNAME:CET
DTSTART:20161030T010000
END:STANDARD
BEGIN:DAYLIGHT
TZOFFSETFROM:+0100
TZOFFSETTO:+0200
TZNAME:CEST
DTSTART:20170326T010000
END:DAYLIGHT
BEGIN:STANDARD
TZOFFSETFROM:+0200
TZOFFSETTO:+0100
TZNAME:CET
DTSTART:20171029T010000
END:STANDARD
BEGIN:DAYLIGHT
TZOFFSETFROM:+0100
TZOFFSETTO:+0200
TZNAME:CEST
DTSTART:20180325T010000
END:DAYLIGHT
BEGIN:STANDARD
TZOFFSETFROM:+0200
TZOFFSETTO:+0100
TZNAME:CET
DTSTART:20181028T010000
END:STANDARD
BEGIN:DAYLIGHT
TZOFFSETFROM:+0100
TZOFFSETTO:+0200
TZNAME:CEST
DTSTART:20190331T010000
END:DAYLIGHT
BEGIN:STANDARD
TZOFFSETFROM:+0200
TZOFFSETTO:+0100
TZNAME:CET
DTSTART:20191027T010000
END:STANDARD
BEGIN:DAYLIGHT
TZOFFSETFROM:+0100
TZOFFSETTO:+0200
TZNAME:CEST
DTSTART:20200329T010000
END:DAYLIGHT
BEGIN:STANDARD
TZOFFSETFROM:+0200
TZOFFSETTO:+0100
TZNAME:CET
DTSTART:20201025T010000
END:STANDARD
BEGIN:DAYLIGHT
TZOFFSETFROM:+0100
TZOFFSETTO:+0200
TZNAME:CEST
DTSTART:20210328T010000
END:DAYLIGHT
BEGIN:STANDARD
TZOFFSETFROM:+0200
TZOFFSETTO:+0100
TZNAME:CET
DTSTART:20211031T010000
END:STANDARD
BEGIN:DAYLIGHT
TZOFFSETFROM:+0100
TZOFFSETTO:+0200
TZNAME:CEST
DTSTART:20220327T010000
END:DAYLIGHT
BEGIN:STANDARD
TZOFFSETFROM:+0200
TZOFFSETTO:+0100
TZNAME:CET
DTSTART:20221030T010000
END:STANDARD
BEGIN:DAYLIGHT
TZOFFSETFROM:+0100
TZOFFSETTO:+0200
TZNAME:CEST
DTSTART:20230326T010000
END:DAYLIGHT
BEGIN:STANDARD
TZOFFSETFROM:+0200
TZOFFSETTO:+0100
TZNAME:CET
DTSTART:20231029T010000
END:STANDARD
END:VTIMEZONE
BEGIN:VEVENT
DTSTART;TZID=Europe/Paris:20221209T180000
DTEND;TZID=Europe/Paris:20221209T200000
DTSTAMP:20260423T223348
CREATED:20190910T064902Z
LAST-MODIFIED:20221205T180256Z
UID:4525-1670608800-1670616000@bosduvelkes.nl
SUMMARY:Jeugdgala Bosdûvelkes
DESCRIPTION:Jeugdgala met aftreden en opkomst jeugdgraaf en jeugdgravin. \nVanwege de voetbal zijn de tijden aangepast:\nZaal open vanaf 17:30 uur\nAanvang jeugdgala 18:00 uur\nEinde jeugdgala 20:00 uur
URL:https://bosduvelkes.nl/evenement/jeugdgala-bosduvelkes-2/
LOCATION:De Vereeniging\, Dorpstraat 7\, De Lutte\, 7587 AH\, Nederland
CATEGORIES:Opkomsten
ATTACH;FMTTYPE=image/jpeg:https://bosduvelkes.nl/wp-content/uploads/2016/12/IMG_4250.jpg
ORGANIZER;CN="C.V. De Bosduvelkes":MAILTO:info@bosduvelkes.nl
END:VEVENT
BEGIN:VEVENT
DTSTART;TZID=UTC:20221203T200000
DTEND;TZID=UTC:20221203T200000
DTSTAMP:20260423T223348
CREATED:20221105T180829Z
LAST-MODIFIED:20221107T201006Z
UID:5014-1670097600-1670097600@bosduvelkes.nl
SUMMARY:Gravenbal
DESCRIPTION:
URL:https://bosduvelkes.nl/evenement/gravenbal/
LOCATION:De Vereeniging\, Dorpstraat 7\, De Lutte\, 7587 AH\, Nederland
CATEGORIES:Opkomsten
ATTACH;FMTTYPE=image/jpeg:https://bosduvelkes.nl/wp-content/uploads/2019/09/opkomst-BD.jpg
ORGANIZER;CN="C.V. De Bosduvelkes":MAILTO:info@bosduvelkes.nl
END:VEVENT
BEGIN:VEVENT
DTSTART;TZID=Europe/Amsterdam:20221203T090000
DTEND;TZID=Europe/Amsterdam:20221203T140000
DTSTAMP:20260423T223348
CREATED:20221111T194055Z
LAST-MODIFIED:20221111T194910Z
UID:5080-1670058000-1670076000@bosduvelkes.nl
SUMMARY:Kerstbomenverkoop
DESCRIPTION:
URL:https://bosduvelkes.nl/evenement/kerstbomenverkoop/
LOCATION:Morsink Dier & Hobby\, Dorpstraat 65\, De Lutte
CATEGORIES:Algemeen
ATTACH;FMTTYPE=image/png:https://bosduvelkes.nl/wp-content/uploads/2022/11/Kerstbomenactie2022.png
END:VEVENT
BEGIN:VEVENT
DTSTART;TZID=Europe/Paris:20221006T203000
DTEND;TZID=Europe/Paris:20221006T203000
DTSTAMP:20260423T223348
CREATED:20190910T063457Z
LAST-MODIFIED:20221111T190043Z
UID:4517-1665088200-1665088200@bosduvelkes.nl
SUMMARY:Jaarvergadering
DESCRIPTION:
URL:https://bosduvelkes.nl/evenement/jaarvergadering-2/
LOCATION:De Vereeniging\, Dorpstraat 7\, De Lutte\, 7587 AH\, Nederland
CATEGORIES:Algemeen
ATTACH;FMTTYPE=image/jpeg:https://bosduvelkes.nl/wp-content/uploads/2017/10/Achtergrond-BD-2.jpg
END:VEVENT
BEGIN:VEVENT
DTSTART;TZID=UTC:20190302T130000
DTEND;TZID=UTC:20190302T130000
DTSTAMP:20260423T223348
CREATED:20161101T182752Z
LAST-MODIFIED:20181019T154233Z
UID:2910-1551531600-1551531600@bosduvelkes.nl
SUMMARY:Optocht Losser
DESCRIPTION:
URL:https://bosduvelkes.nl/evenement/optocht-losser/
LOCATION:Losser
CATEGORIES:Algemeen
ATTACH;FMTTYPE=image/jpeg:https://bosduvelkes.nl/wp-content/uploads/2014/12/optochtoldenzaalgroep.jpg
END:VEVENT
BEGIN:VEVENT
DTSTART;TZID=UTC:20190301T190000
DTEND;TZID=UTC:20190301T190000
DTSTAMP:20260423T223348
CREATED:20161101T182656Z
LAST-MODIFIED:20190227T123639Z
UID:2909-1551466800-1551466800@bosduvelkes.nl
SUMMARY:Jongerenbal De Lutte
DESCRIPTION:
URL:https://bosduvelkes.nl/evenement/jongerenbal-de-lutte/
LOCATION:De Vereeniging\, Dorpstraat 7\, De Lutte\, 7587 AH\, Nederland
CATEGORIES:Algemeen
ATTACH;FMTTYPE=image/jpeg:https://bosduvelkes.nl/wp-content/uploads/2017/12/Boet-en-Laudi-2019_portret-liggend-100.jpg
ORGANIZER;CN="C.V. De Bosduvelkes":MAILTO:info@bosduvelkes.nl
END:VEVENT
BEGIN:VEVENT
DTSTART;TZID=UTC:20190301T170000
DTEND;TZID=UTC:20190301T170000
DTSTAMP:20260423T223348
CREATED:20161101T182609Z
LAST-MODIFIED:20181019T160231Z
UID:2908-1551459600-1551459600@bosduvelkes.nl
SUMMARY:Carnaval Beuningen
DESCRIPTION:
URL:https://bosduvelkes.nl/evenement/carnaval-beuningen/
LOCATION:Sterrebos\, Beuningerstraat 71\, Beuningen\, 7588 RG
CATEGORIES:Algemeen
ATTACH;FMTTYPE=image/jpeg:https://bosduvelkes.nl/wp-content/uploads/2017/10/Achtergrond-BD-2.jpg
END:VEVENT
BEGIN:VEVENT
DTSTART;TZID=UTC:20190301T133000
DTEND;TZID=UTC:20190301T133000
DTSTAMP:20260423T223348
CREATED:20161101T182517Z
LAST-MODIFIED:20190227T122328Z
UID:2907-1551447000-1551447000@bosduvelkes.nl
SUMMARY:Schoolcarnaval
DESCRIPTION:
URL:https://bosduvelkes.nl/evenement/schoolcarnaval/
LOCATION:St. Plechelmusschool\, Plechelmusstraat 9\, De Lutte\, 7587 AL
CATEGORIES:Algemeen
ATTACH;FMTTYPE=image/jpeg:https://bosduvelkes.nl/wp-content/uploads/2017/12/Boet-en-Laudi-2019_portret-liggend-100.jpg
END:VEVENT
BEGIN:VEVENT
DTSTART;TZID=UTC:20190228T203000
DTEND;TZID=UTC:20190228T203000
DTSTAMP:20260423T223348
CREATED:20161101T182412Z
LAST-MODIFIED:20181019T155311Z
UID:2905-1551385800-1551385800@bosduvelkes.nl
SUMMARY:Valappels
DESCRIPTION:
URL:https://bosduvelkes.nl/evenement/valappels/
LOCATION:Sterrebos\, Beuningerstraat 71\, Beuningen\, 7588 RG
CATEGORIES:Algemeen
ATTACH;FMTTYPE=image/jpeg:https://bosduvelkes.nl/wp-content/uploads/2017/10/Achtergrond-BD-2.jpg
END:VEVENT
BEGIN:VEVENT
DTSTART;VALUE=DATE:20190227
DTEND;VALUE=DATE:20190228
DTSTAMP:20260423T223348
CREATED:20161101T182223Z
LAST-MODIFIED:20181019T160416Z
UID:2903-1551225600-1551311999@bosduvelkes.nl
SUMMARY:Senioren Carnaval
DESCRIPTION:
URL:https://bosduvelkes.nl/evenement/ouderen-carnaval/
LOCATION:Jossie\, Dorpstraat 13\, De Lutte\, 7587 AA\, Nederland
CATEGORIES:Algemeen
ATTACH;FMTTYPE=image/jpeg:https://bosduvelkes.nl/wp-content/uploads/2017/10/Achtergrond-BD-2.jpg
END:VEVENT
BEGIN:VEVENT
DTSTART;TZID=UTC:20190223T200000
DTEND;TZID=UTC:20190223T200000
DTSTAMP:20260423T223348
CREATED:20161101T181950Z
LAST-MODIFIED:20181019T153516Z
UID:2900-1550952000-1550952000@bosduvelkes.nl
SUMMARY:Tetterfestival
DESCRIPTION:
URL:https://bosduvelkes.nl/evenement/tetterfestival/
LOCATION:Savenije\, Dorpsstraat 149-151\, Lonneker\, 7524 CH
CATEGORIES:Algemeen
ATTACH;FMTTYPE=image/jpeg:https://bosduvelkes.nl/wp-content/uploads/2017/10/Achtergrond-BD-2.jpg
END:VEVENT
BEGIN:VEVENT
DTSTART;TZID=UTC:20190223T190000
DTEND;TZID=UTC:20190223T190000
DTSTAMP:20260423T223348
CREATED:20161101T181845Z
LAST-MODIFIED:20181019T153437Z
UID:2899-1550948400-1550948400@bosduvelkes.nl
SUMMARY:Carnavalsmis
DESCRIPTION:
URL:https://bosduvelkes.nl/evenement/carnavalsmis/
LOCATION:De Lutte
CATEGORIES:Algemeen
ATTACH;FMTTYPE=image/jpeg:https://bosduvelkes.nl/wp-content/uploads/2017/10/Banner-website-BD2018.jpg
END:VEVENT
BEGIN:VEVENT
DTSTART;TZID=UTC:20190210T140000
DTEND;TZID=UTC:20190210T140000
DTSTAMP:20260423T223348
CREATED:20171116T125532Z
LAST-MODIFIED:20181019T153316Z
UID:4091-1549807200-1549807200@bosduvelkes.nl
SUMMARY:Opendag carnavalsloodsen Bosdûvelkes en Tuffelkeerlkes
DESCRIPTION:Opendag loodsen
URL:https://bosduvelkes.nl/evenement/opendag-carnavalsloodsen-bosduvelkes-en-tuffelkeerlkes/
LOCATION:Carnavalsloods “De Boawelhook\, Pastor Rudingpad 14\, De Lutte\, 7587 AP\, Nederland
CATEGORIES:Open dag
ATTACH;FMTTYPE=image/jpeg:https://bosduvelkes.nl/wp-content/uploads/2017/11/opendag-loods.jpg
ORGANIZER;CN="C.V. De Bosduvelkes":MAILTO:info@bosduvelkes.nl
END:VEVENT
BEGIN:VEVENT
DTSTART;TZID=UTC:20190113T120000
DTEND;TZID=UTC:20190113T120000
DTSTAMP:20260423T223348
CREATED:20161101T181114Z
LAST-MODIFIED:20181019T152923Z
UID:2892-1547380800-1547380800@bosduvelkes.nl
SUMMARY:Tuffelstekk'n
DESCRIPTION:
URL:https://bosduvelkes.nl/evenement/tuffelstekkn/
LOCATION:De Vereeniging\, Dorpstraat 7\, De Lutte\, 7587 AH\, Nederland
CATEGORIES:Algemeen
ATTACH;FMTTYPE=image/jpeg:https://bosduvelkes.nl/wp-content/uploads/2017/10/Achtergrond-BD-2.jpg
END:VEVENT
BEGIN:VEVENT
DTSTART;TZID=UTC:20181216T130000
DTEND;TZID=UTC:20181216T180000
DTSTAMP:20260423T223348
CREATED:20171116T122441Z
LAST-MODIFIED:20181008T060356Z
UID:4088-1544965200-1544983200@bosduvelkes.nl
SUMMARY:Opening residentie en instuif
DESCRIPTION:Residentieopening en aansluitend instuif de Bosdûvelkes
URL:https://bosduvelkes.nl/evenement/opening-residentie-en-instuif-2/
LOCATION:De Vereeniging\, Dorpstraat 7\, De Lutte\, 7587 AH\, Nederland
CATEGORIES:Algemeen
ATTACH;FMTTYPE=image/jpeg:https://bosduvelkes.nl/wp-content/uploads/2017/11/openingresidentie.jpg
ORGANIZER;CN="C.V. De Bosduvelkes":MAILTO:info@bosduvelkes.nl
END:VEVENT
BEGIN:VEVENT
DTSTART;TZID=UTC:20181215T203000
DTEND;TZID=UTC:20181215T203000
DTSTAMP:20260423T223348
CREATED:20171016T100210Z
LAST-MODIFIED:20181019T152516Z
UID:3648-1544905800-1544905800@bosduvelkes.nl
SUMMARY:Opkomst Miss Tuffelkeerlkes
DESCRIPTION:Opkomst Miss Carnaval CV de Tuffelkeerlkes
URL:https://bosduvelkes.nl/evenement/opkomst-miss-tuffelkeerlkes-2/
LOCATION:De grote zwaan\, Bentheimerstraat 21\, De Lutte\, 7587 ND\, Nederland
CATEGORIES:Opkomsten
ATTACH;FMTTYPE=image/jpeg:https://bosduvelkes.nl/wp-content/uploads/2017/10/VHLR-1497.jpg
END:VEVENT
BEGIN:VEVENT
DTSTART;TZID=UTC:20181214T184500
DTEND;TZID=UTC:20181214T210000
DTSTAMP:20260423T223348
CREATED:20181008T055258Z
LAST-MODIFIED:20181112T165950Z
UID:4313-1544813100-1544821200@bosduvelkes.nl
SUMMARY:Jeugdgala
DESCRIPTION:
URL:https://bosduvelkes.nl/evenement/jeugdgala-2/
LOCATION:De Vereeniging\, Dorpstraat 7\, De Lutte\, 7587 AH\, Nederland
CATEGORIES:Gala,Opkomsten
ATTACH;FMTTYPE=image/jpeg:https://bosduvelkes.nl/wp-content/uploads/2016/12/IMG_4214.jpg
ORGANIZER;CN="C.V. De Bosduvelkes":MAILTO:info@bosduvelkes.nl
END:VEVENT
BEGIN:VEVENT
DTSTART;TZID=UTC:20181208T203000
DTEND;TZID=UTC:20181208T203000
DTSTAMP:20260423T223348
CREATED:20180920T100932Z
LAST-MODIFIED:20181019T152347Z
UID:4294-1544301000-1544301000@bosduvelkes.nl
SUMMARY:Afvoeren en opkomst Graaf en Adjudant Bosdûvelkes
DESCRIPTION:
URL:https://bosduvelkes.nl/evenement/afvoeren-en-opkomst-graaf-en-adjudant-bosduvelkes/
LOCATION:De Vereeniging\, Dorpstraat 7\, De Lutte\, 7587 AH\, Nederland
CATEGORIES:Opkomsten
ATTACH;FMTTYPE=image/jpeg:https://bosduvelkes.nl/wp-content/uploads/2018/09/24831424_1963421350573174_5083616090038525852_o.jpg
ORGANIZER;CN="C.V. De Bosduvelkes":MAILTO:info@bosduvelkes.nl
END:VEVENT
BEGIN:VEVENT
DTSTART;TZID=UTC:20181124T203000
DTEND;TZID=UTC:20181124T203000
DTSTAMP:20260423T223348
CREATED:20171116T120821Z
LAST-MODIFIED:20181008T060747Z
UID:4083-1543091400-1543091400@bosduvelkes.nl
SUMMARY:Opkomst Baron Tuffelkeerlkes
DESCRIPTION:
URL:https://bosduvelkes.nl/evenement/opkomst-baron-tuffelkeerlkes/
LOCATION:De grote zwaan\, Bentheimerstraat 21\, De Lutte\, 7587 ND\, Nederland
CATEGORIES:Opkomsten
ATTACH;FMTTYPE=image/jpeg:https://bosduvelkes.nl/wp-content/uploads/2017/11/Baronopkomst.jpg
END:VEVENT
BEGIN:VEVENT
DTSTART;VALUE=DATE:20180207
DTEND;VALUE=DATE:20180208
DTSTAMP:20260423T223348
CREATED:20161101T182139Z
LAST-MODIFIED:20171214T173926Z
UID:2902-1517961600-1518047999@bosduvelkes.nl
SUMMARY:Aanbieden Wagen + Rondgang
DESCRIPTION:
URL:https://bosduvelkes.nl/evenement/aanbieden-wagen-rondgang/
LOCATION:Carnavalsloods “De Boawelhook\, Pastor Rudingpad 14\, De Lutte\, 7587 AP\, Nederland
CATEGORIES:Algemeen
ATTACH;FMTTYPE=image/jpeg:https://bosduvelkes.nl/wp-content/uploads/2014/12/wagenbouwduvelkes.jpg
ORGANIZER;CN="C.V. De Bosduvelkes":MAILTO:info@bosduvelkes.nl
END:VEVENT
BEGIN:VEVENT
DTSTART;TZID=UTC:20180110T180000
DTEND;TZID=UTC:20180110T180000
DTSTAMP:20260423T223348
CREATED:20171221T194347Z
LAST-MODIFIED:20171225T115133Z
UID:4218-1515607200-1515607200@bosduvelkes.nl
SUMMARY:Verkoop kaarten Lutter Gala
DESCRIPTION:Op woensdag 10 januari 2018 is de vrije verkoop van de toegangskaarten voor de Lutter Gala. De galacommissie van De Bosdûvelkes legt de laatste hand aan het programma waarin nieuwe gezichten en optredens. De gala’s van De Bosdûvelkes worden tot ver in de omtrek geroemd om de humor\, hoog cabaret gehalte en alles van eigen bodem. De galavoorstellingen van De Bosdûvelkes vinden plaats: zaterdag 20 januari\, zondagmiddag 21 januari matinee aanvang 14:30 uur\, vrijdag 26 januari en het slotgala op zaterdag 27 januari met uitreiking van de Orde van Verdienste. Het programma start op de avonden om 19.30 uur. \nBegunstigers hebben een streepje voor. Bent u nog geen begunstiger en wilt u dit toch worden\, neem dan contact op met het secretariaat\, via Leonie Pongers: per mail secretariaat@bosduvelkes.nl \nDe vrije verkoop van de resterende kaarten (à 15\,00 euro) vindt plaats op woensdag 10 januari 2017 om 20.00 uur in café/zalencentrum De Vereeniging\, zaal open vanaf 18.00 uur. Bij binnenkomst krijgt u een volgnummer en dient u aan te geven hoeveel kaarten u wenst te kopen. Per persoon kunnen er maximaal 8 kaarten worden gekocht.
URL:https://bosduvelkes.nl/evenement/verkoop-kaarten-lutter-gala/
LOCATION:De Vereeniging\, Dorpstraat 7\, De Lutte\, 7587 AH\, Nederland
CATEGORIES:Kaartverkoop
ATTACH;FMTTYPE=image/jpeg:https://bosduvelkes.nl/wp-content/uploads/2017/10/Achtergrond-BD-2.jpg
ORGANIZER;CN="C.V. De Bosduvelkes":MAILTO:info@bosduvelkes.nl
END:VEVENT
BEGIN:VEVENT
DTSTART;TZID=UTC:20180107T140000
DTEND;TZID=UTC:20180107T140000
DTSTAMP:20260423T223348
CREATED:20161101T180157Z
LAST-MODIFIED:20171214T173328Z
UID:2889-1515333600-1515333600@bosduvelkes.nl
SUMMARY:Spätschoppen-liedjesfestival
DESCRIPTION:
URL:https://bosduvelkes.nl/evenement/spatschoppen-liedjesfestival/
LOCATION:Hotel Smit\, Brinkstraat 34\, Losser\, 7581 GD\, Nederland
CATEGORIES:Algemeen
ATTACH;FMTTYPE=image/jpeg:https://bosduvelkes.nl/wp-content/uploads/2017/10/Achtergrond-BD-2.jpg
END:VEVENT
BEGIN:VEVENT
DTSTART;TZID=UTC:20180105T200000
DTEND;TZID=UTC:20180105T200000
DTSTAMP:20260423T223348
CREATED:20161101T175934Z
LAST-MODIFIED:20171214T174317Z
UID:2887-1515182400-1515182400@bosduvelkes.nl
SUMMARY:Afvoeren/Opkomst Prins JKL
DESCRIPTION:
URL:https://bosduvelkes.nl/evenement/afvoerenopkomst-prins-jkl/
LOCATION:Hotel Smit\, Brinkstraat 34\, Losser\, 7581 GD\, Nederland
CATEGORIES:Opkomsten
ATTACH;FMTTYPE=image/jpeg:https://bosduvelkes.nl/wp-content/uploads/2017/10/Achtergrond-BD-2.jpg
END:VEVENT
BEGIN:VEVENT
DTSTART;TZID=UTC:20171208T183000
DTEND;TZID=UTC:20171208T213000
DTSTAMP:20260423T223348
CREATED:20171116T121856Z
LAST-MODIFIED:20171116T121856Z
UID:4086-1512757800-1512768600@bosduvelkes.nl
SUMMARY:Jeugdgala Bosdûvelkes
DESCRIPTION:Jong geleerd is oud gedaan. Hier moet je bij zijn! \nNog een paar weken en het is weer zover de jeugdgala van de Bosdûvelkes De Lutte met het aftreden van Jeugdgraaf Chris en Jeugdgravin Renee en de opkomst van de nieuwe jeugdhoogheden. Dit jaar is het een beetje anders als voorgaande jaren. We hebben dit jaar een hoogheid uit groep 8 van de basisschool en eentje uit klas 1 van het voortgezet onderwijs. Ook de raad van 11 zal uit beide groepen komen. Het jaar hierna zullen beide hoogheden uit groep 8 komen. \nDe jeugdgala is op 8 december in de De Vereeniging!\nZaal open : 18:30 uur\nKosten : € 3\,- (incl drankje en chips)\nEinde : we proberen 21:30 uur\nOptredens : Jong Nederland De Lutte\, Galliërs en uiteraard Dûvels Geweld\nVoor de ouders: De zaaldeuren zullen tijdens de jeugdgala gesloten zijn. Dit om de kinderen veilig binnen te houden. Het wordt een keigaaf gallisch feest en we hopen dat iedereen er weer is!! \nGroetjes De Jeugdcommissie
URL:https://bosduvelkes.nl/evenement/jeugdgala-bosduvelkes/
LOCATION:De Vereeniging\, Dorpstraat 7\, De Lutte\, 7587 AH\, Nederland
CATEGORIES:Gala
ATTACH;FMTTYPE=image/jpeg:https://bosduvelkes.nl/wp-content/uploads/2016/12/IMG_4250.jpg
ORGANIZER;CN="C.V. De Bosduvelkes":MAILTO:info@bosduvelkes.nl
END:VEVENT
BEGIN:VEVENT
DTSTART;TZID=UTC:20171202T203000
DTEND;TZID=UTC:20171202T203000
DTSTAMP:20260423T223348
CREATED:20171010T082812Z
LAST-MODIFIED:20171018T120756Z
UID:3508-1512246600-1512246600@bosduvelkes.nl
SUMMARY:Afvoeren en opkomst Graaf Bosdûvelkes
DESCRIPTION:test evenement
URL:https://bosduvelkes.nl/evenement/afvoeren-en-opkomst-graaf-2/
LOCATION:De Vereeniging\, Dorpstraat 7\, De Lutte\, 7587 AH\, Nederland
CATEGORIES:Opkomsten
ORGANIZER;CN="C.V. De Bosduvelkes":MAILTO:info@bosduvelkes.nl
END:VEVENT
BEGIN:VEVENT
DTSTART;TZID=UTC:20171110T200000
DTEND;TZID=UTC:20171110T200000
DTSTAMP:20260423T223348
CREATED:20171017T183106Z
LAST-MODIFIED:20171017T183106Z
UID:3914-1510344000-1510344000@bosduvelkes.nl
SUMMARY:Afvoeren en opkomst Graaf Bokelbulkes
DESCRIPTION:Test evenement
URL:https://bosduvelkes.nl/evenement/afvoeren-en-opkomst-graaf-bokelbulkes/
LOCATION:Savenije\, Dorpsstraat 149-151\, Lonneker\, 7524 CH
CATEGORIES:Opkomsten
ATTACH;FMTTYPE=image/jpeg:https://bosduvelkes.nl/wp-content/uploads/2017/10/PICT0114_preview_jpeg.jpg
END:VEVENT
BEGIN:VEVENT
DTSTART;TZID=UTC:20171104T201100
DTEND;TZID=UTC:20171104T201100
DTSTAMP:20260423T223348
CREATED:20171017T182617Z
LAST-MODIFIED:20171017T182617Z
UID:3911-1509826260-1509826260@bosduvelkes.nl
SUMMARY:Afvoeren en opkomst Graaf Veldmuuskes
DESCRIPTION:Test evenement
URL:https://bosduvelkes.nl/evenement/afvoeren-en-opkomst-graaf-veldmuuskes/
LOCATION:Drost\, Hoofdstraat 63\, Overdinkel\, Overijssel\, 7586 BL\, Nederland
CATEGORIES:Opkomsten
ATTACH;FMTTYPE=image/jpeg:https://bosduvelkes.nl/wp-content/uploads/2017/10/opkomst053.jpg
END:VEVENT
BEGIN:VEVENT
DTSTART;TZID=Europe/Amsterdam:20170219T140000
DTEND;TZID=Europe/Amsterdam:20170219T140000
DTSTAMP:20260423T223348
CREATED:20161101T182040Z
LAST-MODIFIED:20161101T182040Z
UID:2901-1487512800-1487512800@bosduvelkes.nl
SUMMARY:Open Dag Martini Kerlkes
DESCRIPTION:
URL:https://bosduvelkes.nl/evenement/open-dag-martini-kerlkes/
CATEGORIES:Open dag
END:VEVENT
BEGIN:VEVENT
DTSTART;TZID=Europe/Amsterdam:20170211T080000
DTEND;TZID=Europe/Amsterdam:20170211T170000
DTSTAMP:20260423T223348
CREATED:20161101T181740Z
LAST-MODIFIED:20161101T181740Z
UID:2898-1486800000-1486832400@bosduvelkes.nl
SUMMARY:SterrenGala
DESCRIPTION:
URL:https://bosduvelkes.nl/evenement/sterrengala/
LOCATION:De Fakkel\, Gronausestraat 107\, Losser\, 7581 CE\, Nederland
CATEGORIES:Gala
END:VEVENT
BEGIN:VEVENT
DTSTART;TZID=Europe/Amsterdam:20170205T140000
DTEND;TZID=Europe/Amsterdam:20170205T140000
DTSTAMP:20260423T223348
CREATED:20161101T181602Z
LAST-MODIFIED:20161101T181602Z
UID:2897-1486303200-1486303200@bosduvelkes.nl
SUMMARY:Opendag JKL
DESCRIPTION:
URL:https://bosduvelkes.nl/evenement/opendag-jkl/
LOCATION:Losser
CATEGORIES:Open dag
END:VEVENT
END:VCALENDAR