BEGIN:VCALENDAR
VERSION:2.0
PRODID:-//C.V. De Bosduvelkes - ECPv6.15.13//NONSGML v1.0//EN
CALSCALE:GREGORIAN
METHOD:PUBLISH
X-ORIGINAL-URL:https://bosduvelkes.nl
X-WR-CALDESC:Evenementen voor C.V. De Bosduvelkes
REFRESH-INTERVAL;VALUE=DURATION:PT1H
X-Robots-Tag:noindex
X-PUBLISHED-TTL:PT1H
BEGIN:VTIMEZONE
TZID:Europe/Amsterdam
BEGIN:DAYLIGHT
TZOFFSETFROM:+0100
TZOFFSETTO:+0200
TZNAME:CEST
DTSTART:20150329T010000
END:DAYLIGHT
BEGIN:STANDARD
TZOFFSETFROM:+0200
TZOFFSETTO:+0100
TZNAME:CET
DTSTART:20151025T010000
END:STANDARD
BEGIN:DAYLIGHT
TZOFFSETFROM:+0100
TZOFFSETTO:+0200
TZNAME:CEST
DTSTART:20160327T010000
END:DAYLIGHT
BEGIN:STANDARD
TZOFFSETFROM:+0200
TZOFFSETTO:+0100
TZNAME:CET
DTSTART:20161030T010000
END:STANDARD
BEGIN:DAYLIGHT
TZOFFSETFROM:+0100
TZOFFSETTO:+0200
TZNAME:CEST
DTSTART:20170326T010000
END:DAYLIGHT
BEGIN:STANDARD
TZOFFSETFROM:+0200
TZOFFSETTO:+0100
TZNAME:CET
DTSTART:20171029T010000
END:STANDARD
END:VTIMEZONE
BEGIN:VEVENT
DTSTART;TZID=Europe/Amsterdam:20161209T193000
DTEND;TZID=Europe/Amsterdam:20161209T193000
DTSTAMP:20260424T011708
CREATED:20161101T174016Z
LAST-MODIFIED:20161101T174016Z
UID:2873-1481311800-1481311800@bosduvelkes.nl
SUMMARY:Jeugdgala
DESCRIPTION:
URL:https://bosduvelkes.nl/evenement/jeugdgala/
LOCATION:De Vereeniging\, Dorpstraat 7\, De Lutte\, 7587 AH\, Nederland
CATEGORIES:Opkomsten
ORGANIZER;CN="C.V. De Bosduvelkes":MAILTO:info@bosduvelkes.nl
END:VEVENT
BEGIN:VEVENT
DTSTART;TZID=Europe/Amsterdam:20161203T200000
DTEND;TZID=Europe/Amsterdam:20161203T200000
DTSTAMP:20260424T011708
CREATED:20161101T173805Z
LAST-MODIFIED:20161101T173805Z
UID:2872-1480795200-1480795200@bosduvelkes.nl
SUMMARY:Afvoeren en opkomst graaf
DESCRIPTION:
URL:https://bosduvelkes.nl/evenement/afvoeren-en-opkomst-graaf/
LOCATION:De Vereeniging\, Dorpstraat 7\, De Lutte\, 7587 AH\, Nederland
CATEGORIES:Opkomsten
ORGANIZER;CN="C.V. De Bosduvelkes":MAILTO:info@bosduvelkes.nl
END:VEVENT
BEGIN:VEVENT
DTSTART;TZID=Europe/Amsterdam:20161126T200000
DTEND;TZID=Europe/Amsterdam:20161126T200000
DTSTAMP:20260424T011708
CREATED:20161101T175538Z
LAST-MODIFIED:20161101T175538Z
UID:2885-1480190400-1480190400@bosduvelkes.nl
SUMMARY:Opkomst Vorst Martini Kerlkes
DESCRIPTION:
URL:https://bosduvelkes.nl/evenement/opkomst-vorst-martini-kerlkes/
LOCATION:Hotel Smit\, Brinkstraat 34\, Losser\, 7581 GD\, Nederland
CATEGORIES:Opkomsten
END:VEVENT
BEGIN:VEVENT
DTSTART;TZID=Europe/Amsterdam:20161119T203000
DTEND;TZID=Europe/Amsterdam:20161119T203000
DTSTAMP:20260424T011708
CREATED:20161101T175407Z
LAST-MODIFIED:20161101T175407Z
UID:2884-1479587400-1479587400@bosduvelkes.nl
SUMMARY:Afvoeren/Opkomst Baron Tuffelkeerlkes
DESCRIPTION:
URL:https://bosduvelkes.nl/evenement/afvoerenopkomst-baron-tuffelkeerlkes/
LOCATION:De grote zwaan\, Bentheimerstraat 21\, De Lutte\, 7587 ND\, Nederland
CATEGORIES:Opkomsten
END:VEVENT
BEGIN:VEVENT
DTSTART;TZID=Europe/Amsterdam:20161112T200000
DTEND;TZID=Europe/Amsterdam:20161112T200000
DTSTAMP:20260424T011708
CREATED:20161101T175205Z
LAST-MODIFIED:20161101T175205Z
UID:2882-1478980800-1478980800@bosduvelkes.nl
SUMMARY:Afvoeren Prins Gaffel Aöskes
DESCRIPTION:
URL:https://bosduvelkes.nl/evenement/afvoeren-prins-gaffel-aoskes/
LOCATION:Heijdemann\, Smalmaatstraat 55\, Losser\, 7581 HH
CATEGORIES:Opkomsten
END:VEVENT
BEGIN:VEVENT
DTSTART;TZID=Europe/Amsterdam:20161111T200000
DTEND;TZID=Europe/Amsterdam:20161111T200000
DTSTAMP:20260424T011708
CREATED:20161101T174955Z
LAST-MODIFIED:20161101T174955Z
UID:2879-1478894400-1478894400@bosduvelkes.nl
SUMMARY:Afvoeren/Opkomst Graaf Bokelbulkes
DESCRIPTION:
URL:https://bosduvelkes.nl/evenement/afvoerenopkomst-graaf-bokelbulkes/
LOCATION:Savenije\, Dorpsstraat 149-151\, Lonneker\, 7524 CH
CATEGORIES:Opkomsten
END:VEVENT
BEGIN:VEVENT
DTSTART;TZID=Europe/Amsterdam:20161105T201000
DTEND;TZID=Europe/Amsterdam:20161105T201000
DTSTAMP:20260424T011708
CREATED:20161101T174716Z
LAST-MODIFIED:20161101T174716Z
UID:2876-1478376600-1478376600@bosduvelkes.nl
SUMMARY:Afvoeren/Opkomst Hoogheid Veldmuuskes
DESCRIPTION:
URL:https://bosduvelkes.nl/evenement/afvoerenopkomst-hoogheid-veldmuuskes/
LOCATION:Drost\, Hoofdstraat 63\, Overdinkel\, Overijssel\, 7586 BL\, Nederland
CATEGORIES:Opkomsten
END:VEVENT
BEGIN:VEVENT
DTSTART;TZID=Europe/Amsterdam:20160923T203000
DTEND;TZID=Europe/Amsterdam:20160923T203000
DTSTAMP:20260424T011708
CREATED:20160919T170413Z
LAST-MODIFIED:20160919T170438Z
UID:2869-1474662600-1474662600@bosduvelkes.nl
SUMMARY:Jaarvergadering
DESCRIPTION:
URL:https://bosduvelkes.nl/evenement/jaarvergadering/
LOCATION:De Vereeniging\, Dorpstraat 7\, De Lutte\, 7587 AH\, Nederland
CATEGORIES:Algemeen
END:VEVENT
END:VCALENDAR